BEGIN:VCALENDAR
VERSION:2.0
PRODID:-//Royal School - ECPv6.15.20//NONSGML v1.0//EN
CALSCALE:GREGORIAN
METHOD:PUBLISH
X-WR-CALNAME:Royal School
X-ORIGINAL-URL:https://royalbritish.edu.eg
X-WR-CALDESC:Events for Royal School
REFRESH-INTERVAL;VALUE=DURATION:PT1H
X-Robots-Tag:noindex
X-PUBLISHED-TTL:PT1H
BEGIN:VTIMEZONE
TZID:UTC
BEGIN:STANDARD
TZOFFSETFROM:+0000
TZOFFSETTO:+0000
TZNAME:UTC
DTSTART:20250101T000000
END:STANDARD
END:VTIMEZONE
BEGIN:VEVENT
DTSTART;VALUE=DATE:20260425
DTEND;VALUE=DATE:20260426
DTSTAMP:20260425T135239
CREATED:20251118T094127Z
LAST-MODIFIED:20251118T094127Z
UID:26427-1777075200-1777161599@royalbritish.edu.eg
SUMMARY:Sinai Liberation Day
DESCRIPTION:
URL:https://royalbritish.edu.eg/event/sinai-liberation-day-2/
END:VEVENT
END:VCALENDAR